BEGIN:VCALENDAR
VERSION:2.0
METHOD:PUBLISH
X-WR-CALNAME:InterRidge :: International Cooperation in Ridge-Crest Studies |  4月 05 2011- 4月 05 2011
PRODID:-//strange bird labs//Drupal iCal API//EN
BEGIN:VEVENT
DTSTAMP;VALUE=DATE-TIME:20260322T043244Z
DTSTART;VALUE=DATE-TIME:20110403T003000Z
DTEND;VALUE=DATE-TIME:20110408T173000Z
UID:http://194.254.225.67/ja/node/6202
URL;VALUE=URI:http://194.254.225.67/ja/node/6202
SUMMARY:EGU General Assembly 2011\, Vienna\, Austria
DESCRIPTION:<p>&nbsp\;</p>
 <p>The EGU General Assembly 2011 will bring together geoscientists from all over the world into one meeting covering all disciplines of the Earth\, Planetary and Space Sciences.&nbsp\;</p>
 <p><a href=\\"http\://meetings.copernicus.org/egu2011/\\">Further details</a></p>
 <p>Registration and abstract deadline\: 10 January 2011</p>
 <p>&nbsp\;</p>
 
END:VEVENT
END:VCALENDAR
